BEGIN:VCALENDAR
VERSION:2.0
PRODID:-//wp-events-plugin.com//6.3//EN
TZID:Europe/Paris
X-WR-TIMEZONE:Europe/Paris
BEGIN:VEVENT
UID:5409@mertzwiller.fr
DTSTART;TZID=Europe/Paris;VALUE=DATE:20260425
DTEND;TZID=Europe/Paris;VALUE=DATE:20260427
DTSTAMP:20260205T104012Z
URL:https://www.mertzwiller.fr/vivre-a-mertzwiller/agenda/une-rose-un-espo
 ir/
SUMMARY:Une rose\, un espoir
DESCRIPTION:
ATTACH;FMTTYPE=image/jpeg:https://www.mertzwiller.fr/wp-content/uploads/20
 26/02/2026-04-UNE-ROSE-UN-ESPOIR.jpg
END:VEVENT
BEGIN:VTIMEZONE
TZID:Europe/Paris
X-LIC-LOCATION:Europe/Paris
BEGIN:DAYLIGHT
DTSTART:20260329T030000
TZOFFSETFROM:+0100
TZOFFSETTO:+0200
TZNAME:CEST
END:DAYLIGHT
END:VTIMEZONE
END:VCALENDAR