BEGIN:VCALENDAR
VERSION:2.0
PRODID:-//wp-events-plugin.com//6.3//EN
TZID:Europe/Paris
X-WR-TIMEZONE:Europe/Paris
BEGIN:VEVENT
UID:5444@mertzwiller.fr
DTSTART;TZID=Europe/Paris:20260501T173000
DTEND;TZID=Europe/Paris:20260501T213000
DTSTAMP:20260410T120528Z
URL:https://www.mertzwiller.fr/vivre-a-mertzwiller/agenda/soiree-tartes-fl
 ambees-et-pizzas-du-progres/
SUMMARY:Soirée tartes flambées et pizzas du Progrès
DESCRIPTION:A la salle du Progrès
ATTACH;FMTTYPE=image/jpeg:https://www.mertzwiller.fr/wp-content/uploads/20
 26/03/2026-05-soiree-progres-2.jpg
END:VEVENT
BEGIN:VTIMEZONE
TZID:Europe/Paris
X-LIC-LOCATION:Europe/Paris
BEGIN:DAYLIGHT
DTSTART:20260329T030000
TZOFFSETFROM:+0100
TZOFFSETTO:+0200
TZNAME:CEST
END:DAYLIGHT
END:VTIMEZONE
END:VCALENDAR