BEGIN:VCALENDAR
VERSION:2.0
PRODID:-//wp-events-plugin.com//6.3//EN
TZID:Europe/Paris
X-WR-TIMEZONE:Europe/Paris
BEGIN:VEVENT
UID:5442@mertzwiller.fr
DTSTART;TZID=Europe/Paris:20260503T060000
DTEND;TZID=Europe/Paris:20260503T160000
DTSTAMP:20260323T135212Z
URL:https://www.mertzwiller.fr/vivre-a-mertzwiller/agenda/marche-aux-puces
 /
SUMMARY:Marché aux puces
DESCRIPTION:Autour des étangs des cygnes\n\nRestauration et buvette sur pl
 ace\n\nOrganisé par l'AAPPMA Mertzwiller
ATTACH;FMTTYPE=image/jpeg:https://www.mertzwiller.fr/wp-content/uploads/20
 26/03/20260503-MAP1-PUB-PUBLIC.jpg
END:VEVENT
BEGIN:VTIMEZONE
TZID:Europe/Paris
X-LIC-LOCATION:Europe/Paris
BEGIN:DAYLIGHT
DTSTART:20260329T030000
TZOFFSETFROM:+0100
TZOFFSETTO:+0200
TZNAME:CEST
END:DAYLIGHT
END:VTIMEZONE
END:VCALENDAR