BEGIN:VCALENDAR
VERSION:2.0
PRODID:-//wp-events-plugin.com//6.3//EN
TZID:Europe/Paris
X-WR-TIMEZONE:Europe/Paris
BEGIN:VEVENT
UID:5031@mertzwiller.fr
DTSTART;TZID=Europe/Paris:20260506T153000
DTEND;TZID=Europe/Paris:20260506T160000
DTSTAMP:20251114T152830Z
URL:https://www.mertzwiller.fr/vivre-a-mertzwiller/agenda/heure-du-conte-8
 -2026-05-06/
SUMMARY:Heure du conte
DESCRIPTION:Venez écouter des histoires en famille à la bibliothèque.\n\
 nAccès libre et gratuit.\n\nDurée : 30 mn\n\nRenseignements : Bibliothè
 que de Mertzwiller - Entrée rue des Bergers - 03 88 90 16 50 - bib@mertzw
 iller.fr
ATTACH;FMTTYPE=image/jpeg:https://www.mertzwiller.fr/wp-content/uploads/20
 24/09/Heure-du-conte-2025-09-Post-FB-Heure-du-conte.jpg
END:VEVENT
BEGIN:VTIMEZONE
TZID:Europe/Paris
X-LIC-LOCATION:Europe/Paris
BEGIN:DAYLIGHT
DTSTART:20260329T030000
TZOFFSETFROM:+0100
TZOFFSETTO:+0200
TZNAME:CEST
END:DAYLIGHT
END:VTIMEZONE
END:VCALENDAR