BEGIN:VCALENDAR
VERSION:2.0
PRODID:-//wp-events-plugin.com//6.3//EN
TZID:Europe/Paris
X-WR-TIMEZONE:Europe/Paris
BEGIN:VEVENT
UID:5430@mertzwiller.fr
DTSTART;TZID=Europe/Paris;VALUE=DATE:20260618
DTEND;TZID=Europe/Paris;VALUE=DATE:20260619
DTSTAMP:20260310T135034Z
URL:https://www.mertzwiller.fr/vivre-a-mertzwiller/agenda/excursion-de-la-
 maistubb-club-des-retraites-2/
SUMMARY:Excursion de la Maïstubb - Club des retraités
DESCRIPTION:Destination à définir\n\nRenseignements : M. Alfred WAECHTER 
 – 03 88 90 46 88
ATTACH;FMTTYPE=image/jpeg:https://www.mertzwiller.fr/wp-content/uploads/20
 23/03/MAISTUBB.png
END:VEVENT
BEGIN:VTIMEZONE
TZID:Europe/Paris
X-LIC-LOCATION:Europe/Paris
BEGIN:DAYLIGHT
DTSTART:20260329T030000
TZOFFSETFROM:+0100
TZOFFSETTO:+0200
TZNAME:CEST
END:DAYLIGHT
END:VTIMEZONE
END:VCALENDAR