BEGIN:VCALENDAR
VERSION:2.0
PRODID:-//wp-events-plugin.com//6.3//EN
TZID:Europe/Paris
X-WR-TIMEZONE:Europe/Paris
BEGIN:VEVENT
UID:4950@mertzwiller.fr
DTSTART;TZID=Europe/Paris:20260926T093000
DTEND;TZID=Europe/Paris:20260926T113000
DTSTAMP:20251107T144450Z
URL:https://www.mertzwiller.fr/vivre-a-mertzwiller/agenda/collecte-de-bouc
 hons-vetements-vieux-papiers-et-cartons-2026-09-26/
SUMMARY:Collecte de bouchons\, vêtements\, vieux papiers et cartons
DESCRIPTION:A la caserne des pompiers\n\nOrganisé par l'Association Boucho
 ns Bonheur 67\n\n 	Bouchons plastiques\, bouchons liège\, aluminium\, can
 ette en alu\, cartons\, vieux papiers\n 	Piles usagées pour le Téléthon
 \n 	Vêtements et chaussures\n 	Stylos et feutres usagés\n
ATTACH;FMTTYPE=image/jpeg:https://www.mertzwiller.fr/wp-content/uploads/20
 24/07/bouchons-20ans.jpg
END:VEVENT
BEGIN:VTIMEZONE
TZID:Europe/Paris
X-LIC-LOCATION:Europe/Paris
BEGIN:DAYLIGHT
DTSTART:20260329T030000
TZOFFSETFROM:+0100
TZOFFSETTO:+0200
TZNAME:CEST
END:DAYLIGHT
END:VTIMEZONE
END:VCALENDAR