BEGIN:VCALENDAR
VERSION:2.0
PRODID:-//wp-events-plugin.com//6.3//EN
TZID:Europe/Paris
X-WR-TIMEZONE:Europe/Paris
BEGIN:VEVENT
UID:5455@mertzwiller.fr
DTSTART;TZID=Europe/Paris;VALUE=DATE:20260502
DTEND;TZID=Europe/Paris;VALUE=DATE:20260504
DTSTAMP:20260407T064623Z
URL:https://www.mertzwiller.fr/vivre-a-mertzwiller/agenda/bretzbad-2/
SUMMARY:Bretz'Bad
DESCRIPTION:A l'Espace Grappelli\n\nPar l'ABCM Mertzwiller
ATTACH;FMTTYPE=image/jpeg:https://www.mertzwiller.fr/wp-content/uploads/20
 26/04/2026-05Bretzbad-2026-V2.jpg
END:VEVENT
BEGIN:VTIMEZONE
TZID:Europe/Paris
X-LIC-LOCATION:Europe/Paris
BEGIN:DAYLIGHT
DTSTART:20260329T030000
TZOFFSETFROM:+0100
TZOFFSETTO:+0200
TZNAME:CEST
END:DAYLIGHT
END:VTIMEZONE
END:VCALENDAR