BEGIN:VCALENDAR
VERSION:2.0
PRODID:-//wp-events-plugin.com//6.3//EN
TZID:Europe/Paris
X-WR-TIMEZONE:Europe/Paris
BEGIN:VEVENT
UID:5286@mertzwiller.fr
DTSTART;TZID=Europe/Paris:20261020T080000
DTEND;TZID=Europe/Paris:20261020T091500
DTSTAMP:20251209T101828Z
URL:https://www.mertzwiller.fr/vivre-a-mertzwiller/agenda/atelier-gym-adap
 tee-2026-10-20/
SUMMARY:Atelier gym adaptée
DESCRIPTION:Chaque mardi matin\, de 8h à 9h15\, la commune propose aux hab
 itants des séances de gymnastique santé\, animées par Dieda Tom. Ces at
 eliers\, accessibles à tous les niveaux\, s’inscrivent dans une démarc
 he de prévention santé et de bien-être\, spécialement conçus pour les
  adultes et seniors de la commune et des alentours.\n\nLes participants pr
 ofitent chaque semaine de ces séances\, qui allient renforcement musculai
 re doux\, travail de l’équilibre\, étirements\, rire et relaxation. L
 ’objectif est de permettre à chacun de progresser à son rythme\, dans 
 une ambiance chaleureuse et conviviale. Dieda Tom\, enseignant en activit
 é physique adaptée\, veille à personnaliser les mouvements selon les ca
 pacités de tous\, pour un plaisir partagé et une pratique en toute confi
 ance.\n\nRejoignez-nous ! Ouvertes à tous\, ces séances sont une excelle
 nte occasion de prendre soin de sa santé tout en partageant un moment agr
 éable. Pour plus d’informations ou pour vous inscrire\, contactez Dieda
  Tom au 06 67 73 61 89 ou présentez-vous directement sur place.
ATTACH;FMTTYPE=image/jpeg:https://www.mertzwiller.fr/wp-content/uploads/20
 25/12/ATELIER-GYM-ADAPTEE.jpeg
END:VEVENT
BEGIN:VTIMEZONE
TZID:Europe/Paris
X-LIC-LOCATION:Europe/Paris
BEGIN:DAYLIGHT
DTSTART:20260329T030000
TZOFFSETFROM:+0100
TZOFFSETTO:+0200
TZNAME:CEST
END:DAYLIGHT
END:VTIMEZONE
END:VCALENDAR