BEGIN:VCALENDAR
VERSION:2.0
PRODID:-//wp-events-plugin.com//6.3//EN
TZID:Europe/Paris
X-WR-TIMEZONE:Europe/Paris
BEGIN:VEVENT
UID:5452@mertzwiller.fr
DTSTART;TZID=Europe/Paris:20260429T140000
DTEND;TZID=Europe/Paris:20260429T160000
DTSTAMP:20260331T074710Z
URL:https://www.mertzwiller.fr/vivre-a-mertzwiller/agenda/atelier-floral-j
 ardiniere-de-printemps/
SUMMARY:[COMPLET] Atelier floral : Jardinière de printemps
DESCRIPTION:A l'Espace Stéphane Grappelli\n\n10 € pour les habitants de 
 Mertzwiller / 15 € pour les extérieurs\n\nMatériel à apporter : 1 jar
 dinière (35 cm environ)\, des gants\n\nInscription à la mairie
ATTACH;FMTTYPE=image/jpeg:https://www.mertzwiller.fr/wp-content/uploads/20
 26/03/Atelier-floral-2904.jpeg
END:VEVENT
BEGIN:VTIMEZONE
TZID:Europe/Paris
X-LIC-LOCATION:Europe/Paris
BEGIN:DAYLIGHT
DTSTART:20260329T030000
TZOFFSETFROM:+0100
TZOFFSETTO:+0200
TZNAME:CEST
END:DAYLIGHT
END:VTIMEZONE
END:VCALENDAR