BEGIN:VCALENDAR
VERSION:2.0
PRODID:-//wp-events-plugin.com//6.3//EN
TZID:Europe/Paris
X-WR-TIMEZONE:Europe/Paris
BEGIN:VEVENT
UID:5450@mertzwiller.fr
DTSTART;TZID=Europe/Paris:20260429T133000
DTEND;TZID=Europe/Paris:20260429T150000
DTSTAMP:20260327T074750Z
URL:https://www.mertzwiller.fr/vivre-a-mertzwiller/agenda/atelier-bricolag
 e-marionnettes/
SUMMARY:Atelier bricolage Marionnettes
DESCRIPTION:Pour les enfants de 6 à 9 ans\n\nA la bibliothèque municipale
  (entrée Rue des Bergers)\n\nGratuit - sur inscription au 03 88 90 16 50 
 ou bib@mertzwiller.fr
ATTACH;FMTTYPE=image/jpeg:https://www.mertzwiller.fr/wp-content/uploads/20
 26/03/Atelier-brico-04-26-1.jpeg
END:VEVENT
BEGIN:VTIMEZONE
TZID:Europe/Paris
X-LIC-LOCATION:Europe/Paris
BEGIN:DAYLIGHT
DTSTART:20260329T030000
TZOFFSETFROM:+0100
TZOFFSETTO:+0200
TZNAME:CEST
END:DAYLIGHT
END:VTIMEZONE
END:VCALENDAR